BEGIN:VCALENDAR
VERSION:2.0
PRODID:-//JESEV - ECPv6.15.20//NONSGML v1.0//EN
CALSCALE:GREGORIAN
METHOD:PUBLISH
X-ORIGINAL-URL:https://jesev.de
X-WR-CALDESC:Veranstaltungen für JESEV
REFRESH-INTERVAL;VALUE=DURATION:PT1H
X-Robots-Tag:noindex
X-PUBLISHED-TTL:PT1H
BEGIN:VTIMEZONE
TZID:Europe/Helsinki
BEGIN:DAYLIGHT
TZOFFSETFROM:+0200
TZOFFSETTO:+0300
TZNAME:EEST
DTSTART:20240331T010000
END:DAYLIGHT
BEGIN:STANDARD
TZOFFSETFROM:+0300
TZOFFSETTO:+0200
TZNAME:EET
DTSTART:20241027T010000
END:STANDARD
BEGIN:DAYLIGHT
TZOFFSETFROM:+0200
TZOFFSETTO:+0300
TZNAME:EEST
DTSTART:20250330T010000
END:DAYLIGHT
BEGIN:STANDARD
TZOFFSETFROM:+0300
TZOFFSETTO:+0200
TZNAME:EET
DTSTART:20251026T010000
END:STANDARD
BEGIN:DAYLIGHT
TZOFFSETFROM:+0200
TZOFFSETTO:+0300
TZNAME:EEST
DTSTART:20260329T010000
END:DAYLIGHT
BEGIN:STANDARD
TZOFFSETFROM:+0300
TZOFFSETTO:+0200
TZNAME:EET
DTSTART:20261025T010000
END:STANDARD
END:VTIMEZONE
BEGIN:VEVENT
DTSTART;TZID=Europe/Helsinki:20250706T140000
DTEND;TZID=Europe/Helsinki:20250706T160000
DTSTAMP:20260419T182630
CREATED:20250624T132642Z
LAST-MODIFIED:20250701T174658Z
UID:2854-1751810400-1751817600@jesev.de
SUMMARY:Bodensee - Schifffahrt
DESCRIPTION:
URL:https://jesev.de/event/bodensee-schifffahrt/
LOCATION:Die Bodensee-Schifffahrt Überlingen\, Landungsplatz\, Überlingen\, 88662\, Deutschland
CATEGORIES:Veranstaltungen 2025
ORGANIZER;CN="JESEV":MAILTO:info@jesev.de
END:VEVENT
END:VCALENDAR